BEGIN:VCALENDAR
VERSION:2.0
PRODID:-//Bridge Of Humanity - ECPv6.15.20//NONSGML v1.0//EN
CALSCALE:GREGORIAN
METHOD:PUBLISH
X-ORIGINAL-URL:https://bridgeofhumanity.com
X-WR-CALDESC:Events for Bridge Of Humanity
REFRESH-INTERVAL;VALUE=DURATION:PT1H
X-Robots-Tag:noindex
X-PUBLISHED-TTL:PT1H
BEGIN:VTIMEZONE
TZID:UTC
BEGIN:STANDARD
TZOFFSETFROM:+0000
TZOFFSETTO:+0000
TZNAME:UTC
DTSTART:20220101T000000
END:STANDARD
END:VTIMEZONE
BEGIN:VEVENT
DTSTART;TZID=UTC:20230908T080000
DTEND;TZID=UTC:20230908T170000
DTSTAMP:20260420T231325
CREATED:20230111T041159Z
LAST-MODIFIED:20260409T104707Z
UID:263-1694160000-1694192400@bridgeofhumanity.com
SUMMARY:Rozgar Setu: Livelihood Skills Training
DESCRIPTION:A vocational training initiative teaching sustainable farming techniques\, poultry rearing\, and handicraft skills to widowed women and youth. Includes seed funding grants for 100 micro-enterprises to ensure long-term self-reliance.
URL:https://bridgeofhumanity.com/event/rozgar-setu-livelihood-skills-training/
LOCATION:Khulna\, Khulna\, Bangladesh
CATEGORIES:Seminars
ATTACH;FMTTYPE=image/jpeg:https://bridgeofhumanity.com/wp-content/uploads/2023/01/event-6.jpg
END:VEVENT
END:VCALENDAR